Package: MSstatsBioNet Version: 1.1.7 Command: /home/biocbuild/bbs-3.22-bioc/R/bin/R CMD build --keep-empty-dirs --no-resave-data --md5 MSstatsBioNet StartedAt: 2025-10-24 19:04:04 -0400 (Fri, 24 Oct 2025) EndedAt: 2025-10-24 19:04:28 -0400 (Fri, 24 Oct 2025) EllapsedTime: 24.0 seconds RetCode: 0 Status: OK PackageFile: MSstatsBioNet_1.1.7.tar.gz PackageFileSize: 510.3 KiB