Package: MSstatsBioNet Version: 1.1.7 Command: /Library/Frameworks/R.framework/Resources/bin/R CMD build --keep-empty-dirs --no-resave-data MSstatsBioNet StartedAt: 2025-10-26 17:19:02 -0400 (Sun, 26 Oct 2025) EndedAt: 2025-10-26 17:19:49 -0400 (Sun, 26 Oct 2025) EllapsedTime: 47.5 seconds RetCode: 1 Status: ERROR PackageFile: None PackageFileSize: NA