Package: MSstatsBig Version: 1.7.0 Command: /Library/Frameworks/R.framework/Resources/bin/R CMD INSTALL MSstatsBig StartedAt: 2025-10-26 15:06:55 -0400 (Sun, 26 Oct 2025) EndedAt: 2025-10-26 15:06:59 -0400 (Sun, 26 Oct 2025) EllapsedTime: 4.2 seconds RetCode: 0 Status: OK