Package: MSstatsBig Version: 1.7.0 Command: /Library/Frameworks/R.framework/Resources/bin/R CMD build --keep-empty-dirs --no-resave-data MSstatsBig StartedAt: 2025-10-26 17:19:01 -0400 (Sun, 26 Oct 2025) EndedAt: 2025-10-26 17:19:07 -0400 (Sun, 26 Oct 2025) EllapsedTime: 6.1 seconds RetCode: 0 Status: OK PackageFile: MSstatsBig_1.7.0.tar.gz PackageFileSize: 70.12 KiB