Package: MSstatsBig Version: 1.7.0 Command: rm -rf MSstatsBig.buildbin-libdir && mkdir MSstatsBig.buildbin-libdir && /Users/biocbuild/BBS/utils/build-universal.sh MSstatsBig_1.7.0.tar.gz /Library/Frameworks/R.framework/Resources/bin/R MSstatsBig.buildbin-libdir StartedAt: 2025-10-26 22:42:15 -0400 (Sun, 26 Oct 2025) EndedAt: 2025-10-26 22:42:20 -0400 (Sun, 26 Oct 2025) EllapsedTime: 5.1 seconds RetCode: 0 Status: OK PackageFile: MSstatsBig_1.7.0.tgz PackageFileSize: 95.53 KiB