Package: MSstats Version: 4.17.2 Command: /home/biocbuild/bbs-3.22-bioc/R/bin/R CMD INSTALL MSstats StartedAt: 2025-10-24 15:22:20 -0400 (Fri, 24 Oct 2025) EndedAt: 2025-10-24 15:23:03 -0400 (Fri, 24 Oct 2025) EllapsedTime: 43.3 seconds RetCode: 0 Status: OK