Package: MSstats Version: 4.17.2 Command: /home/biocbuild/bbs-3.22-bioc/R/bin/R CMD build --keep-empty-dirs --no-resave-data --md5 MSstats StartedAt: 2025-10-27 18:55:09 -0400 (Mon, 27 Oct 2025) EndedAt: 2025-10-27 18:56:25 -0400 (Mon, 27 Oct 2025) EllapsedTime: 76.1 seconds RetCode: 0 Status: OK PackageFile: MSstats_4.17.2.tar.gz PackageFileSize: 525.8 KiB