Package: MSnbase Version: 2.35.2 Command: /home/biocbuild/bbs-3.22-bioc/R/bin/R CMD INSTALL MSnbase StartedAt: 2025-10-24 15:46:19 -0400 (Fri, 24 Oct 2025) EndedAt: 2025-10-24 15:47:34 -0400 (Fri, 24 Oct 2025) EllapsedTime: 75.6 seconds RetCode: 0 Status: OK