Package: MSnbase Version: 2.36.0 Command: /Library/Frameworks/R.framework/Resources/bin/R CMD INSTALL MSnbase StartedAt: 2025-11-03 15:29:27 -0500 (Mon, 03 Nov 2025) EndedAt: 2025-11-03 15:31:08 -0500 (Mon, 03 Nov 2025) EllapsedTime: 101.3 seconds RetCode: 0 Status: OK