Package: MSnbase Version: 2.36.0 Command: /Library/Frameworks/R.framework/Resources/bin/R CMD build --keep-empty-dirs --no-resave-data MSnbase StartedAt: 2025-11-03 17:55:22 -0500 (Mon, 03 Nov 2025) EndedAt: 2025-11-03 17:59:43 -0500 (Mon, 03 Nov 2025) EllapsedTime: 261.4 seconds RetCode: 0 Status: OK PackageFile: MSnbase_2.36.0.tar.gz PackageFileSize: 7.482 MiB