Package: MSnbase Version: 2.36.0 Command: rm -rf MSnbase.buildbin-libdir && mkdir MSnbase.buildbin-libdir && /Users/biocbuild/BBS/utils/build-universal.sh MSnbase_2.36.0.tar.gz /Library/Frameworks/R.framework/Resources/bin/R MSnbase.buildbin-libdir StartedAt: 2025-11-04 01:51:52 -0500 (Tue, 04 Nov 2025) EndedAt: 2025-11-04 01:53:41 -0500 (Tue, 04 Nov 2025) EllapsedTime: 109.4 seconds RetCode: 0 Status: OK PackageFile: MSnbase_2.36.0.tgz PackageFileSize: 8.92 MiB