Package: MSnbase Version: 2.35.2 Command: /Library/Frameworks/R.framework/Resources/bin/R CMD INSTALL MSnbase StartedAt: 2025-10-24 15:22:23 -0400 (Fri, 24 Oct 2025) EndedAt: 2025-10-24 15:22:51 -0400 (Fri, 24 Oct 2025) EllapsedTime: 28.4 seconds RetCode: 0 Status: OK