Package: MSnbase Version: 2.35.2 Command: /Library/Frameworks/R.framework/Resources/bin/R CMD build --keep-empty-dirs --no-resave-data MSnbase StartedAt: 2025-10-24 17:09:19 -0400 (Fri, 24 Oct 2025) EndedAt: 2025-10-24 17:10:44 -0400 (Fri, 24 Oct 2025) EllapsedTime: 85.0 seconds RetCode: 0 Status: OK PackageFile: MSnbase_2.35.2.tar.gz PackageFileSize: 7.486 MiB