Package: MSPrep Version: 1.19.0 Command: /home/biocbuild/bbs-3.22-bioc/R/bin/R CMD build --keep-empty-dirs --no-resave-data --md5 MSPrep StartedAt: 2025-10-27 18:54:13 -0400 (Mon, 27 Oct 2025) EndedAt: 2025-10-27 18:56:23 -0400 (Mon, 27 Oct 2025) EllapsedTime: 129.1 seconds RetCode: 0 Status: OK PackageFile: MSPrep_1.19.0.tar.gz PackageFileSize: 1.576 MiB