Package: MSA2dist Version: 1.14.0 Command: /Library/Frameworks/R.framework/Resources/bin/R CMD INSTALL MSA2dist StartedAt: 2025-11-03 15:45:44 -0500 (Mon, 03 Nov 2025) EndedAt: 2025-11-03 15:47:03 -0500 (Mon, 03 Nov 2025) EllapsedTime: 79.0 seconds RetCode: 0 Status: OK