Package: MSA2dist Version: 1.14.0 Command: /Library/Frameworks/R.framework/Resources/bin/R CMD build --keep-empty-dirs --no-resave-data MSA2dist StartedAt: 2025-11-03 17:53:48 -0500 (Mon, 03 Nov 2025) EndedAt: 2025-11-03 17:55:33 -0500 (Mon, 03 Nov 2025) EllapsedTime: 105.1 seconds RetCode: 0 Status: OK PackageFile: MSA2dist_1.14.0.tar.gz PackageFileSize: 881.2 KiB