Package: MSA2dist Version: 1.14.0 Command: rm -rf MSA2dist.buildbin-libdir && mkdir MSA2dist.buildbin-libdir && /Users/biocbuild/BBS/utils/build-universal.sh MSA2dist_1.14.0.tar.gz /Library/Frameworks/R.framework/Resources/bin/R MSA2dist.buildbin-libdir StartedAt: 2025-11-04 01:51:26 -0500 (Tue, 04 Nov 2025) EndedAt: 2025-11-04 01:52:50 -0500 (Tue, 04 Nov 2025) EllapsedTime: 84.0 seconds RetCode: 0 Status: OK PackageFile: MSA2dist_1.14.0.tgz PackageFileSize: 1.161 MiB