Package: MSA2dist Version: 1.13.0 Command: /Library/Frameworks/R.framework/Resources/bin/R CMD INSTALL MSA2dist StartedAt: 2025-10-24 15:29:02 -0400 (Fri, 24 Oct 2025) EndedAt: 2025-10-24 15:29:22 -0400 (Fri, 24 Oct 2025) EllapsedTime: 20.0 seconds RetCode: 0 Status: OK