Package: MSA2dist Version: 1.13.0 Command: /Library/Frameworks/R.framework/Resources/bin/R CMD build --keep-empty-dirs --no-resave-data MSA2dist StartedAt: 2025-10-26 17:17:07 -0400 (Sun, 26 Oct 2025) EndedAt: 2025-10-26 17:17:34 -0400 (Sun, 26 Oct 2025) EllapsedTime: 26.3 seconds RetCode: 0 Status: OK PackageFile: MSA2dist_1.13.0.tar.gz PackageFileSize: 881.5 KiB