Package: MSA2dist Version: 1.13.0 Command: rm -rf MSA2dist.buildbin-libdir && mkdir MSA2dist.buildbin-libdir && /Users/biocbuild/BBS/utils/build-universal.sh MSA2dist_1.13.0.tar.gz /Library/Frameworks/R.framework/Resources/bin/R MSA2dist.buildbin-libdir StartedAt: 2025-10-26 22:42:06 -0400 (Sun, 26 Oct 2025) EndedAt: 2025-10-26 22:42:26 -0400 (Sun, 26 Oct 2025) EllapsedTime: 20.4 seconds RetCode: 0 Status: OK PackageFile: MSA2dist_1.13.0.tgz PackageFileSize: 1.143 MiB