Package: MPRAnalyze Version: 1.27.0 Command: /home/biocbuild/bbs-3.22-bioc/R/bin/R CMD build --keep-empty-dirs --no-resave-data --md5 MPRAnalyze StartedAt: 2025-10-27 18:51:35 -0400 (Mon, 27 Oct 2025) EndedAt: 2025-10-27 18:52:46 -0400 (Mon, 27 Oct 2025) EllapsedTime: 71.1 seconds RetCode: 0 Status: OK PackageFile: MPRAnalyze_1.27.0.tar.gz PackageFileSize: 560.8 KiB