Package: MPRAnalyze Version: 1.28.0 Command: /Library/Frameworks/R.framework/Resources/bin/R CMD INSTALL MPRAnalyze StartedAt: 2025-11-10 15:14:15 -0500 (Mon, 10 Nov 2025) EndedAt: 2025-11-10 15:14:24 -0500 (Mon, 10 Nov 2025) EllapsedTime: 9.1 seconds RetCode: 0 Status: OK