Package: MPRAnalyze Version: 1.28.0 Command: rm -rf MPRAnalyze.buildbin-libdir && mkdir MPRAnalyze.buildbin-libdir && /Users/biocbuild/BBS/utils/build-universal.sh MPRAnalyze_1.28.0.tar.gz /Library/Frameworks/R.framework/Resources/bin/R MPRAnalyze.buildbin-libdir StartedAt: 2025-11-10 23:28:11 -0500 (Mon, 10 Nov 2025) EndedAt: 2025-11-10 23:28:21 -0500 (Mon, 10 Nov 2025) EllapsedTime: 10.2 seconds RetCode: 0 Status: OK PackageFile: MPRAnalyze_1.28.0.tgz PackageFileSize: 638.7 KiB