Package: MPAC Version: 1.3.1 Command: /home/biocbuild/bbs-3.22-bioc/R/bin/R CMD build --keep-empty-dirs --no-resave-data --md5 MPAC StartedAt: 2025-10-24 18:59:26 -0400 (Fri, 24 Oct 2025) EndedAt: 2025-10-24 19:00:27 -0400 (Fri, 24 Oct 2025) EllapsedTime: 61.0 seconds RetCode: 0 Status: OK PackageFile: MPAC_1.3.1.tar.gz PackageFileSize: 850.8 KiB