Package: MOSim Version: 2.5.0 Command: /home/biocbuild/bbs-3.22-bioc/R/bin/R CMD INSTALL MOSim StartedAt: 2025-10-28 15:55:19 -0400 (Tue, 28 Oct 2025) EndedAt: 2025-10-28 15:56:09 -0400 (Tue, 28 Oct 2025) EllapsedTime: 49.6 seconds RetCode: 0 Status: OK