Package: MOSim Version: 2.6.0 Command: /Library/Frameworks/R.framework/Resources/bin/R CMD build --keep-empty-dirs --no-resave-data MOSim StartedAt: 2025-10-30 17:43:18 -0400 (Thu, 30 Oct 2025) EndedAt: 2025-10-30 17:53:19 -0400 (Thu, 30 Oct 2025) EllapsedTime: 601.1 seconds RetCode: 0 Status: OK PackageFile: MOSim_2.6.0.tar.gz PackageFileSize: 6.394 MiB