Package: MOSim Version: 2.6.0 Command: rm -rf MOSim.buildbin-libdir && mkdir MOSim.buildbin-libdir && /Users/biocbuild/BBS/utils/build-universal.sh MOSim_2.6.0.tar.gz /Library/Frameworks/R.framework/Resources/bin/R MOSim.buildbin-libdir StartedAt: 2025-10-31 01:35:21 -0400 (Fri, 31 Oct 2025) EndedAt: 2025-10-31 01:36:20 -0400 (Fri, 31 Oct 2025) EllapsedTime: 58.7 seconds RetCode: 0 Status: OK PackageFile: MOSim_2.6.0.tgz PackageFileSize: 6.903 MiB