Package: MOSim Version: 2.5.0 Command: /Library/Frameworks/R.framework/Resources/bin/R CMD build --keep-empty-dirs --no-resave-data MOSim StartedAt: 2025-10-26 17:16:04 -0400 (Sun, 26 Oct 2025) EndedAt: 2025-10-26 17:18:27 -0400 (Sun, 26 Oct 2025) EllapsedTime: 143.5 seconds RetCode: 0 Status: OK PackageFile: MOSim_2.5.0.tar.gz PackageFileSize: 6.395 MiB