Package: MOSim Version: 2.6.0 Maintainer: Sonia Tarazona MaintainerEmail: sotacam at gmail.com git_url: https://git.bioconductor.org/packages/MOSim git_branch: RELEASE_3_22 git_last_commit: 3eff748 git_last_commit_date: 2025-10-29 10:53:49 -0500 (Wed, 29 Oct 2025)