Package: MOSClip Version: 1.4.0 Command: /home/biocbuild/R/R/bin/R CMD INSTALL MOSClip StartedAt: 2025-11-20 22:36:03 -0000 (Thu, 20 Nov 2025) EndedAt: 2025-11-20 22:37:08 -0000 (Thu, 20 Nov 2025) EllapsedTime: 64.9 seconds RetCode: 0 Status: OK