Package: MOSClip Version: 1.4.0 Command: /home/biocbuild/R/R/bin/R CMD build --keep-empty-dirs --no-resave-data MOSClip StartedAt: 2025-11-21 04:06:21 -0000 (Fri, 21 Nov 2025) EndedAt: 2025-11-21 04:08:25 -0000 (Fri, 21 Nov 2025) EllapsedTime: 124.0 seconds RetCode: 0 Status: OK PackageFile: MOSClip_1.4.0.tar.gz PackageFileSize: 1.303 MiB