Package: MOSClip Version: 1.3.3 Command: /home/biocbuild/bbs-3.22-bioc/R/bin/R CMD INSTALL MOSClip StartedAt: 2025-10-24 15:55:18 -0400 (Fri, 24 Oct 2025) EndedAt: 2025-10-24 15:56:08 -0400 (Fri, 24 Oct 2025) EllapsedTime: 50.0 seconds RetCode: 0 Status: OK