Package: MOSClip Version: 1.3.3 Command: /home/biocbuild/bbs-3.22-bioc/R/bin/R CMD build --keep-empty-dirs --no-resave-data --md5 MOSClip StartedAt: 2025-10-24 18:57:24 -0400 (Fri, 24 Oct 2025) EndedAt: 2025-10-24 18:58:53 -0400 (Fri, 24 Oct 2025) EllapsedTime: 89.1 seconds RetCode: 0 Status: OK PackageFile: MOSClip_1.3.3.tar.gz PackageFileSize: 2.097 MiB