Package: MOSClip Version: 1.3.3 Command: /Library/Frameworks/R.framework/Resources/bin/R CMD build --keep-empty-dirs --no-resave-data MOSClip StartedAt: 2025-10-24 17:52:36 -0400 (Fri, 24 Oct 2025) EndedAt: 2025-10-24 17:54:45 -0400 (Fri, 24 Oct 2025) EllapsedTime: 128.5 seconds RetCode: 0 Status: OK PackageFile: MOSClip_1.3.3.tar.gz PackageFileSize: 2.123 MiB