Package: MOSClip Version: 1.3.3 Command: rm -rf MOSClip.buildbin-libdir && mkdir MOSClip.buildbin-libdir && /Users/biocbuild/BBS/utils/build-universal.sh MOSClip_1.3.3.tar.gz /Library/Frameworks/R.framework/Resources/bin/R MOSClip.buildbin-libdir StartedAt: 2025-10-25 01:50:58 -0400 (Sat, 25 Oct 2025) EndedAt: 2025-10-25 01:52:08 -0400 (Sat, 25 Oct 2025) EllapsedTime: 70.3 seconds RetCode: 0 Status: OK PackageFile: MOSClip_1.3.3.tgz PackageFileSize: 2.407 MiB