Package: MOSClip Version: 1.3.3 Maintainer: Paolo Martini MaintainerEmail: paolo.martini at unibs.it git_url: https://git.bioconductor.org/packages/MOSClip git_branch: devel git_last_commit: 440555e git_last_commit_date: 2025-09-22 10:26:56 -0400 (Mon, 22 Sep 2025)