Package: MOMA Version: 1.21.0 Command: /home/biocbuild/bbs-3.22-bioc/R/bin/R CMD INSTALL MOMA StartedAt: 2025-10-24 15:31:02 -0400 (Fri, 24 Oct 2025) EndedAt: 2025-10-24 15:31:35 -0400 (Fri, 24 Oct 2025) EllapsedTime: 32.8 seconds RetCode: 0 Status: OK