Package: MOGAMUN Version: 1.19.0 Command: /home/biocbuild/bbs-3.22-bioc/R/bin/R CMD INSTALL MOGAMUN StartedAt: 2025-10-27 15:15:49 -0400 (Mon, 27 Oct 2025) EndedAt: 2025-10-27 15:15:56 -0400 (Mon, 27 Oct 2025) EllapsedTime: 7.1 seconds RetCode: 0 Status: OK