Package: MOGAMUN Version: 1.19.0 Command: /home/biocbuild/bbs-3.22-bioc/R/bin/R CMD build --keep-empty-dirs --no-resave-data --md5 MOGAMUN StartedAt: 2025-10-27 18:47:22 -0400 (Mon, 27 Oct 2025) EndedAt: 2025-10-27 18:47:36 -0400 (Mon, 27 Oct 2025) EllapsedTime: 14.0 seconds RetCode: 0 Status: OK PackageFile: MOGAMUN_1.19.0.tar.gz PackageFileSize: 126.8 KiB