Package: MOGAMUN Version: 1.20.0 Command: /Library/Frameworks/R.framework/Resources/bin/R CMD INSTALL MOGAMUN StartedAt: 2025-11-02 15:07:35 -0500 (Sun, 02 Nov 2025) EndedAt: 2025-11-02 15:07:38 -0500 (Sun, 02 Nov 2025) EllapsedTime: 3.1 seconds RetCode: 0 Status: OK