Package: MOGAMUN Version: 1.20.0 Command: /Library/Frameworks/R.framework/Resources/bin/R CMD build --keep-empty-dirs --no-resave-data MOGAMUN StartedAt: 2025-11-02 17:04:16 -0500 (Sun, 02 Nov 2025) EndedAt: 2025-11-02 17:04:21 -0500 (Sun, 02 Nov 2025) EllapsedTime: 5.1 seconds RetCode: 0 Status: OK PackageFile: MOGAMUN_1.20.0.tar.gz PackageFileSize: 125.9 KiB