Package: MODA Version: 1.35.0 Command: /home/biocbuild/bbs-3.22-bioc/R/bin/R CMD INSTALL MODA StartedAt: 2025-10-27 15:45:58 -0400 (Mon, 27 Oct 2025) EndedAt: 2025-10-27 15:46:18 -0400 (Mon, 27 Oct 2025) EllapsedTime: 19.6 seconds RetCode: 0 Status: OK