Package: MODA Version: 1.36.0 Command: /Library/Frameworks/R.framework/Resources/bin/R CMD INSTALL MODA StartedAt: 2025-11-10 15:23:01 -0500 (Mon, 10 Nov 2025) EndedAt: 2025-11-10 15:23:10 -0500 (Mon, 10 Nov 2025) EllapsedTime: 8.4 seconds RetCode: 0 Status: OK