Package: MMUPHin Version: 1.24.0 Command: /home/biocbuild/bbs-3.22-bioc/R/bin/R CMD INSTALL MMUPHin StartedAt: 2025-11-02 15:21:08 -0500 (Sun, 02 Nov 2025) EndedAt: 2025-11-02 15:21:18 -0500 (Sun, 02 Nov 2025) EllapsedTime: 10.3 seconds RetCode: 0 Status: OK