Package: MMUPHin Version: 1.24.0 Command: /home/biocbuild/bbs-3.22-bioc/R/bin/R CMD build --keep-empty-dirs --no-resave-data --md5 MMUPHin StartedAt: 2025-11-03 18:48:20 -0500 (Mon, 03 Nov 2025) EndedAt: 2025-11-03 18:49:22 -0500 (Mon, 03 Nov 2025) EllapsedTime: 62.0 seconds RetCode: 0 Status: OK PackageFile: MMUPHin_1.24.0.tar.gz PackageFileSize: 3.691 MiB