Package: MMDiff2 Version: 1.37.1 Command: /home/biocbuild/R/R/bin/R CMD INSTALL MMDiff2 StartedAt: 2025-10-23 20:50:00 -0000 (Thu, 23 Oct 2025) EndedAt: 2025-10-23 20:50:49 -0000 (Thu, 23 Oct 2025) EllapsedTime: 49.2 seconds RetCode: 0 Status: OK