Package: MMDiff2 Version: 1.37.1 Command: /home/biocbuild/R/R/bin/R CMD build --keep-empty-dirs --no-resave-data MMDiff2 StartedAt: 2025-10-21 01:21:41 -0000 (Tue, 21 Oct 2025) EndedAt: 2025-10-21 01:24:02 -0000 (Tue, 21 Oct 2025) EllapsedTime: 141.1 seconds RetCode: 0 Status: OK PackageFile: MMDiff2_1.37.1.tar.gz PackageFileSize: 2.839 MiB