Package: MMDiff2 Version: 1.37.1 Command: /home/biocbuild/bbs-3.22-bioc/R/bin/R CMD INSTALL MMDiff2 StartedAt: 2025-10-24 15:38:52 -0400 (Fri, 24 Oct 2025) EndedAt: 2025-10-24 15:39:29 -0400 (Fri, 24 Oct 2025) EllapsedTime: 37.1 seconds RetCode: 0 Status: OK