Package: MMDiff2 Version: 1.37.1 Command: /home/biocbuild/bbs-3.22-bioc/R/bin/R CMD check --install=check:MMDiff2.install-out.txt --library=/home/biocbuild/bbs-3.22-bioc/R/site-library --timings MMDiff2_1.37.1.tar.gz StartedAt: 2025-10-25 01:40:26 -0400 (Sat, 25 Oct 2025) EndedAt: 2025-10-25 01:46:30 -0400 (Sat, 25 Oct 2025) EllapsedTime: 364.4 seconds RetCode: 0 Status: OK CheckDir: MMDiff2.Rcheck Warnings: 0