Package: MMDiff2 Version: 1.37.1 Command: /home/biocbuild/bbs-3.22-bioc/R/bin/R CMD build --keep-empty-dirs --no-resave-data --md5 MMDiff2 StartedAt: 2025-10-24 18:54:31 -0400 (Fri, 24 Oct 2025) EndedAt: 2025-10-24 18:56:00 -0400 (Fri, 24 Oct 2025) EllapsedTime: 89.1 seconds RetCode: 0 Status: OK PackageFile: MMDiff2_1.37.1.tar.gz PackageFileSize: 2.849 MiB